BEGIN:VCALENDAR
VERSION:2.0
PRODID:-//Dorset Wild Ones - ECPv6.15.20//NONSGML v1.0//EN
CALSCALE:GREGORIAN
METHOD:PUBLISH
X-WR-CALNAME:Dorset Wild Ones
X-ORIGINAL-URL:https://dorsetwildones.co.uk
X-WR-CALDESC:Events for Dorset Wild Ones
REFRESH-INTERVAL;VALUE=DURATION:PT1H
X-Robots-Tag:noindex
X-PUBLISHED-TTL:PT1H
BEGIN:VTIMEZONE
TZID:UTC
BEGIN:STANDARD
TZOFFSETFROM:+0000
TZOFFSETTO:+0000
TZNAME:UTC
DTSTART:20230101T000000
END:STANDARD
END:VTIMEZONE
BEGIN:VEVENT
DTSTART;TZID=UTC:20241102T120000
DTEND;TZID=UTC:20241102T163000
DTSTAMP:20260424T191231
CREATED:20241009T102806Z
LAST-MODIFIED:20241009T115527Z
UID:1817-1730548800-1730565000@dorsetwildones.co.uk
SUMMARY:Wild Ones Witch and Wizard Academy
DESCRIPTION:[vc_row][vc_column][vc_column_text css=””]\nMake your dreams of becoming a powerful witch or wizard come true!\nCollect your academy card and then your stamps along the way as you complete your training with things including:[/vc_column_text][/vc_column][/vc_row][vc_row][vc_column width=”1/3″]\n\nMaster the art of potion-making\nLearn different methods to make a fire to heat your cauldron\nHave a go on our broomstick assault course\n\n[/vc_column][vc_column width=”1/3″]\n\nMake a pine cone owl or cat familiar in the crafty corner\nTry your hand at archery\nCreate a magic nature wand to cast your spells\n\n[/vc_column][vc_column width=”1/3″][/vc_column][/vc_row][vc_row][vc_column][vc_column_text css=””]\nPlus…. a treasure hunt\, oodles of crafts and games and some lovely refreshments too\n[/vc_column_text][/vc_column][/vc_row][vc_row][vc_column][/vc_column][/vc_row][vc_row][vc_column][vc_column_text css=””]Limited tickets will be available on the day so we advise booking in advance[/vc_column_text][/vc_column][/vc_row]
URL:https://dorsetwildones.co.uk/news-and-events-upcoming-event/wild-ones-witch-and-wizard-academy/
LOCATION:Bere Regis Primary School\, Southbrook\, Bere Regis\, Dorset\, BH20 7LQ\, United Kingdom
ATTACH;FMTTYPE=image/png:https://dorsetwildones.co.uk/wp-content/uploads/2024/10/banner-blank.png
ORGANIZER;CN="Wild Ones":MAILTO:info@bovingtonwildones.co.uk
END:VEVENT
END:VCALENDAR