BEGIN:VCALENDAR
VERSION:2.0
PRODID:-//Dorset Wild Ones - ECPv6.15.20//NONSGML v1.0//EN
CALSCALE:GREGORIAN
METHOD:PUBLISH
X-WR-CALNAME:Dorset Wild Ones
X-ORIGINAL-URL:https://dorsetwildones.co.uk
X-WR-CALDESC:Events for Dorset Wild Ones
REFRESH-INTERVAL;VALUE=DURATION:PT1H
X-Robots-Tag:noindex
X-PUBLISHED-TTL:PT1H
BEGIN:VTIMEZONE
TZID:UTC
BEGIN:STANDARD
TZOFFSETFROM:+0000
TZOFFSETTO:+0000
TZNAME:UTC
DTSTART:20220101T000000
END:STANDARD
END:VTIMEZONE
BEGIN:VEVENT
DTSTART;TZID=UTC:20260330T090000
DTEND;TZID=UTC:20260404T160000
DTSTAMP:20260423T183413
CREATED:20250313T154826Z
LAST-MODIFIED:20260219T212405Z
UID:1942-1774861200-1775318400@dorsetwildones.co.uk
SUMMARY:Easter school holiday club
DESCRIPTION:[vc_row][vc_column][vc_column_text]\nSome of the activities we have on offer include:\n[/vc_column_text][/vc_column][/vc_row][vc_row][vc_column width=”1/3″]\n\nArchery\nWildlife workshops\nJewellery making\nCampfire songs\n\n[/vc_column][vc_column width=”1/3″]\n\nArt workshops\nWhittling\nTeam games\nPond dipping\n\n[/vc_column][vc_column width=”1/3″]\n\nFire building\nDen making\nMega mud kitchen\nNeedle felting\n\n[/vc_column][/vc_row][vc_row][vc_column][vc_column_text css=””]\nAbout the club\nDorset Wild Ones holiday club is a school holiday adventure club providing a safe\, informative\, and fun environment for children to learn\, play and explore. By participating in a range of activities such as bushcraft\, fire-making\, gardening\, nature crafts\, shelter building\, and wildlife workshops our children and young people will learn a range of skills whilst improving their confidence\, risk-taking\, and communication skills while having lots of fun. \nOur club is perfect for all adventurers from reception up to year 10. We always have two or three bushcraft\, craft or team activities on offer at any time\, or if your child prefers they are free to go wild and free play in any of our areas. \nWe are neighbours with the Dorset Wildlife Trusts Wild Woodbury project as well as Mays Wood so we often make use of the local river\, fields and forest for the keen naturalists \nRead more about the club[/vc_column_text][/vc_column][/vc_row][vc_row][vc_column][vc_column_text]\nOur Team\nWe have a brilliant and skilled team of leaders at Wild Ones made up of Forest School leaders\, teachers\, bushcraft instructors\, conversationalists\, artists and SEND specialists. This means your Wild One will get a fully rounded and fulfilling time with us! \nLocation\nWe are based at Bere Regis Primary School\, in our amazing Forest School area\, though we make use of the surrounding woodland\, river and Wild Woodbury. \nCosts\nOur main club runs from 9.00 am – 3.30 pm and the cost is £32\, with a discount for siblings . You can also add an hour in the morning and/or afternoon for £5 each.[/vc_column_text][/vc_column][/vc_row][vc_row][vc_column][/vc_column][/vc_row][vc_row][vc_column width=”1/2″][vc_column_text css=”.vc_custom_1737130711774{padding-top: 5px !important;padding-right: 30px !important;padding-bottom: 30px !important;padding-left: 30px !important;background-color: #794077 !important;border-radius: 10px !important;}” color=”#ffffff”]\nReady to book?\nYou can register and book your place online using our booking portal. You can pay by card or bank transfer \nBook online[/vc_column_text][/vc_column][vc_column width=”1/2″][vc_column_text css=”.vc_custom_1737130721617{padding-top: 5px !important;padding-right: 30px !important;padding-bottom: 30px !important;padding-left: 30px !important;background-color: #794077 !important;border-radius: 10px !important;}” color=”#ffffff”]\nFind out more\nYou can read all about our club and what we are all about \nFind out more[/vc_column_text][/vc_column][/vc_row][vc_row visibility=”hidden”][vc_column][vc_column_text css=””]\n\nBooking will open shortly\n[/vc_column_text][/vc_column][/vc_row]
URL:https://dorsetwildones.co.uk/news-and-events-upcoming-event/easter-school-holiday-club/
LOCATION:Bere Regis Primary School\, Southbrook\, Bere Regis\, Dorset\, BH20 7LQ\, United Kingdom
CATEGORIES:Holiday Club
ATTACH;FMTTYPE=image/jpeg:https://dorsetwildones.co.uk/wp-content/uploads/2025/03/flyer.jpg
ORGANIZER;CN="Wild Ones":MAILTO:info@bovingtonwildones.co.uk
END:VEVENT
BEGIN:VEVENT
DTSTART;TZID=UTC:20250811T090000
DTEND;TZID=UTC:20250829T153000
DTSTAMP:20260423T183413
CREATED:20250630T184308Z
LAST-MODIFIED:20250630T185005Z
UID:1966-1754902800-1756481400@dorsetwildones.co.uk
SUMMARY:Summer holiday club
DESCRIPTION:[vc_row][vc_column][vc_column_text]\nSome of the activities we have on offer include:\n[/vc_column_text][/vc_column][/vc_row][vc_row][vc_column width=”1/3″]\n\nArchery\nWildlife workshops\nJewellery making\nCampfire songs\n\n[/vc_column][vc_column width=”1/3″]\n\nArt workshops\nWhittling\nTeam games\nPond dipping\n\n[/vc_column][vc_column width=”1/3″]\n\nFire building\nDen making\nMega mud kitchen\nNeedle felting\n\n[/vc_column][/vc_row][vc_row][vc_column][vc_column_text css=””]\nAbout the club\nDorset Wild Ones holiday club is a school holiday adventure club providing a safe\, informative\, and fun environment for children to learn\, play and explore. By participating in a range of activities such as bushcraft\, fire-making\, gardening\, nature crafts\, shelter building\, and wildlife workshops our children and young people will learn a range of skills whilst improving their confidence\, risk-taking\, and communication skills while having lots of fun. \nOur club is perfect for all adventurers from reception up to year 10. We always have two or three bushcraft\, craft or team activities on offer at any time\, or if your child prefers they are free to go wild and free play in any of our areas. \nWe are neighbours with the Dorset Wildlife Trusts Wild Woodbury project as well as Mays Wood so we often make use of the local river\, fields and forest for the keen naturalists \nRead more about the club[/vc_column_text][/vc_column][/vc_row][vc_row][vc_column][vc_column_text]\nOur Team\nWe have a brilliant and skilled team of leaders at Wild Ones made up of Forest School leaders\, teachers\, bushcraft instructors\, conversationalists\, artists and SEND specialists. This means your Wild One will get a fully rounded and fulfilling time with us! \nLocation\nWe are based at Bere Regis Primary School\, in our amazing Forest School area\, though we make use of the surrounding woodland\, river and Wild Woodbury. \nCosts\nOur main club runs from 9.00 am – 3.30 pm and the cost is £32\, with a discount for siblings . You can also add an hour in the morning and/or afternoon for £5 each.[/vc_column_text][/vc_column][/vc_row][vc_row][vc_column][/vc_column][/vc_row][vc_row][vc_column width=”1/2″][vc_column_text css=”.vc_custom_1737130711774{padding-top: 5px !important;padding-right: 30px !important;padding-bottom: 30px !important;padding-left: 30px !important;background-color: #794077 !important;border-radius: 10px !important;}” color=”#ffffff”]\nReady to book?\nYou can register and book your place online using our booking portal. You can pay by card or bank transfer \nBook online[/vc_column_text][/vc_column][vc_column width=”1/2″][vc_column_text css=”.vc_custom_1737130721617{padding-top: 5px !important;padding-right: 30px !important;padding-bottom: 30px !important;padding-left: 30px !important;background-color: #794077 !important;border-radius: 10px !important;}” color=”#ffffff”]\nFind out more\nYou can read all about our club and what we are all about \nFind out more[/vc_column_text][/vc_column][/vc_row]
URL:https://dorsetwildones.co.uk/news-and-events-upcoming-event/summer-holiday-club-2/
LOCATION:Bere Regis Primary School\, Southbrook\, Bere Regis\, Dorset\, BH20 7LQ\, United Kingdom
CATEGORIES:Holiday Club
ATTACH;FMTTYPE=image/jpeg:https://dorsetwildones.co.uk/wp-content/uploads/2025/06/cover.jpg
ORGANIZER;CN="Wild Ones":MAILTO:info@bovingtonwildones.co.uk
END:VEVENT
BEGIN:VEVENT
DTSTART;TZID=UTC:20250527T090000
DTEND;TZID=UTC:20250530T153000
DTSTAMP:20260423T183413
CREATED:20250512T104518Z
LAST-MODIFIED:20250512T120446Z
UID:1948-1748336400-1748619000@dorsetwildones.co.uk
SUMMARY:May half term holiday club
DESCRIPTION:[vc_row][vc_column][vc_column_text]\nSome of the activities we have on offer include:\n[/vc_column_text][/vc_column][/vc_row][vc_row][vc_column width=”1/3″]\n\nArchery\nWildlife workshops\nJewellery making\nCampfire songs\n\n[/vc_column][vc_column width=”1/3″]\n\nArt workshops\nWhittling\nTeam games\nPond dipping\n\n[/vc_column][vc_column width=”1/3″]\n\nFire building\nCampfire cooking\nMega mud kitchen\nNeedle felting\n\n[/vc_column][/vc_row][vc_row][vc_column][vc_column_text css=””]\nAbout the club\nDorset Wild Ones holiday club is a school holiday adventure club providing a safe\, informative\, and fun environment for children to learn\, play and explore. By participating in a range of activities such as bushcraft\, fire-making\, gardening\, nature crafts\, shelter building\, and wildlife workshops our children and young people will learn a range of skills whilst improving their confidence\, risk-taking\, and communication skills while having lots of fun. \nOur club is perfect for all adventurers from reception up to year 10. We always have two or three bushcraft\, craft or team activities on offer at any time\, or if your child prefers they are free to go wild and free play in any of our areas. \nWe are neighbours with the Dorset Wildlife Trusts Wild Woodbury project as well as Mays Wood so we often make use of the local river\, fields and forest for the keen naturalists \nRead more about the club[/vc_column_text][/vc_column][/vc_row][vc_row][vc_column][vc_column_text]\nOur Team\nWe have a brilliant and skilled team of leaders at Wild Ones made up of Forest School leaders\, teachers\, bushcraft instructors\, conversationalists\, artists and SEND specialists. This means your Wild One will get a fully rounded and fulfilling time with us! \nLocation\nWe are based at Bere Regis Primary School\, in our amazing Forest School area\, though we make use of the surrounding woodland\, river and Wild Woodbury. \nCosts\nOur main club runs from 9.00 am – 3.30 pm and the cost is £32\, with a discount for siblings . You can also add an hour in the morning and/or afternoon for £5 each.[/vc_column_text][/vc_column][/vc_row][vc_row][vc_column][/vc_column][/vc_row][vc_row][vc_column width=”1/2″][vc_column_text css=”.vc_custom_1737130711774{padding-top: 5px !important;padding-right: 30px !important;padding-bottom: 30px !important;padding-left: 30px !important;background-color: #794077 !important;border-radius: 10px !important;}” color=”#ffffff”]\nReady to book?\nYou can register and book your place online using our booking portal. You can pay by card or bank transfer \nBook online[/vc_column_text][/vc_column][vc_column width=”1/2″][vc_column_text css=”.vc_custom_1737130721617{padding-top: 5px !important;padding-right: 30px !important;padding-bottom: 30px !important;padding-left: 30px !important;background-color: #794077 !important;border-radius: 10px !important;}” color=”#ffffff”]\nFind out more\nYou can read all about our club and what we are all about \nFind out more[/vc_column_text][/vc_column][/vc_row]
URL:https://dorsetwildones.co.uk/news-and-events-upcoming-event/may-half-term-holiday-club/
LOCATION:Bere Regis Primary School\, Southbrook\, Bere Regis\, Dorset\, BH20 7LQ\, United Kingdom
CATEGORIES:Holiday Club
ATTACH;FMTTYPE=image/jpeg:https://dorsetwildones.co.uk/wp-content/uploads/2025/05/cover.jpg
ORGANIZER;CN="Wild Ones":MAILTO:info@bovingtonwildones.co.uk
END:VEVENT
BEGIN:VEVENT
DTSTART;TZID=UTC:20250218T090000
DTEND;TZID=UTC:20250221T153000
DTSTAMP:20260423T183413
CREATED:20250117T160606Z
LAST-MODIFIED:20250117T161845Z
UID:1927-1739869200-1740151800@dorsetwildones.co.uk
SUMMARY:February half term school holiday club
DESCRIPTION:[vc_row][vc_column][vc_column_text]\nSome of the activities we have on offer include:\n[/vc_column_text][/vc_column][/vc_row][vc_row][vc_column width=”1/3″]\n\nArchery\nWildlife workshops\nJewellery making\nCampfire songs\n\n[/vc_column][vc_column width=”1/3″]\n\nArt workshops\nWhittling\nTeam games\nPond dipping\n\n[/vc_column][vc_column width=”1/3″]\n\nFire building\nDen making\nMega mud kitchen\nNeedle felting\n\n[/vc_column][/vc_row][vc_row][vc_column][vc_column_text css=””]\nAbout the club\nDorset Wild Ones holiday club is a school holiday adventure club providing a safe\, informative\, and fun environment for children to learn\, play and explore. By participating in a range of activities such as bushcraft\, fire-making\, gardening\, nature crafts\, shelter building\, and wildlife workshops our children and young people will learn a range of skills whilst improving their confidence\, risk-taking\, and communication skills while having lots of fun. \nOur club is perfect for all adventurers from reception up to year 10. We always have two or three bushcraft\, craft or team activities on offer at any time\, or if your child prefers they are free to go wild and free play in any of our areas. \nWe are neighbours with the Dorset Wildlife Trusts Wild Woodbury project as well as Mays Wood so we often make use of the local river\, fields and forest for the keen naturalists \nRead more about the club[/vc_column_text][/vc_column][/vc_row][vc_row][vc_column][vc_column_text]\nOur Team\nWe have a brilliant and skilled team of leaders at Wild Ones made up of Forest School leaders\, teachers\, bushcraft instructors\, conversationalists\, artists and SEND specialists. This means your Wild One will get a fully rounded and fulfilling time with us! \nLocation\nWe are based at Bere Regis Primary School\, in our amazing Forest School area\, though we make use of the surrounding woodland\, river and Wild Woodbury. \nCosts\nOur main club runs from 9.00 am – 3.30 pm and the cost is £32\, with a discount for siblings . You can also add an hour in the morning and/or afternoon for £5 each.[/vc_column_text][/vc_column][/vc_row][vc_row][vc_column][/vc_column][/vc_row][vc_row][vc_column width=”1/2″][vc_column_text css=”.vc_custom_1737130711774{padding-top: 5px !important;padding-right: 30px !important;padding-bottom: 30px !important;padding-left: 30px !important;background-color: #794077 !important;border-radius: 10px !important;}” color=”#ffffff”]\nReady to book?\nYou can register and book your place online using our booking portal. You can pay by card or bank transfer \nBook online[/vc_column_text][/vc_column][vc_column width=”1/2″][vc_column_text css=”.vc_custom_1737130721617{padding-top: 5px !important;padding-right: 30px !important;padding-bottom: 30px !important;padding-left: 30px !important;background-color: #794077 !important;border-radius: 10px !important;}” color=”#ffffff”]\nFind out more\nYou can read all about our club and what we are all about \nFind out more[/vc_column_text][/vc_column][/vc_row]
URL:https://dorsetwildones.co.uk/news-and-events-upcoming-event/february-half-term-school-holiday-club/
LOCATION:Bere Regis Primary School\, Southbrook\, Bere Regis\, Dorset\, BH20 7LQ\, United Kingdom
CATEGORIES:Holiday Club
ATTACH;FMTTYPE=image/jpeg:https://dorsetwildones.co.uk/wp-content/uploads/2022/06/banner-holidayclub.jpg
ORGANIZER;CN="Wild Ones":MAILTO:info@bovingtonwildones.co.uk
END:VEVENT
BEGIN:VEVENT
DTSTART;TZID=UTC:20241223T090000
DTEND;TZID=UTC:20250103T153000
DTSTAMP:20260423T183413
CREATED:20241127T225049Z
LAST-MODIFIED:20241127T225649Z
UID:1905-1734944400-1735918200@dorsetwildones.co.uk
SUMMARY:Christmas holiday club
DESCRIPTION:[vc_row][vc_column][vc_column_text]\nSome of the activities we have on offer include:\n[/vc_column_text][/vc_column][/vc_row][vc_row][vc_column width=”1/3″]\n\nArchery\nWildlife workshops\nCampfire songs\nWinter lanterns\n\n[/vc_column][vc_column width=”1/3″]\n\nChristmas slime\nTeam games\nPond dipping\nNeedle felting\n\n[/vc_column][vc_column width=”1/3″]\n\nFire building\nCampfire cooking\nClay workshops\nArt\n\n[/vc_column][/vc_row][vc_row][vc_column][vc_column_text]\nAbout the club\nDorset Wild Ones holiday club is a school holiday adventure club providing a safe\, informative\, and fun environment for children to learn\, play and explore. By participating in a range of activities such as bushcraft\, fire-making\, gardening\, nature crafts\, shelter building\, and wildlife workshops our children and young people will learn a range of skills whilst improving their confidence\, risk-taking\, and communication skills while having lots of fun. \nOur club is perfect for all adventurers from reception up to year 10. We always have two or three bushcraft\, craft or team activities on offer at any time\, or if your child prefers they are free to go wild and free play in any of our areas. \nWe are neighbours with the Dorset Wildlife Trusts Wild Woodbury project as well as Mays Wood so we often make use of the local river\, fields and forest for the keen naturalists \nRead more about the club[/vc_column_text][/vc_column][/vc_row][vc_row][vc_column][vc_column_text css=””]\nOur Team\nWe have a brilliant and skilled team of leaders at Wild Ones made up of Forest School leaders\, teachers\, bushcraft instructors\, conversationalists\, artists and SEND specialists. This means your Wild One will get a fully rounded and fulfilling time with us! \nLocation\nWe are based at Bere Regis Primary School\, in our amazing Forest School area\, though we make use of the surrounding woodland\, river and Wild Woodbury. \nCosts\nOur main club runs from 9.00 am – 3.30 pm and the cost is £32\, with a discount for siblings . You can also add an hour in the morning and/or afternoon for £5 each. \nDates\nWe will be running for four days during the Christmas holidays: \n\n\nMon 23 Dec\n\n\nMon 30 Dec\n\n\nThu 2 Jan\n\n\nFri 3 Jan\n\n\nHAF\nWe have free places for any child with a valid HAF passcode\, please make sure you select the HAF Passcode option when booking.[/vc_column_text][/vc_column][/vc_row][vc_row][vc_column][/vc_column][/vc_row][vc_row][vc_column width=”1/2″][vc_column_text css=”.vc_custom_1694601977411{padding-top: 5px !important;padding-right: 30px !important;padding-bottom: 30px !important;padding-left: 30px !important;background-color: #794077 !important;border-radius: 10px !important;}” color=”#ffffff”]\nReady to book?\nYou can register and book your place online using our booking portal. You can pay by card or bank transfer \nBook online[/vc_column_text][/vc_column][vc_column width=”1/2″][vc_column_text css=”.vc_custom_1694602044449{padding-top: 5px !important;padding-right: 30px !important;padding-bottom: 30px !important;padding-left: 30px !important;background-color: #794077 !important;border-radius: 10px !important;}” color=”#ffffff”]\nFind out more\nYou can read all about our club and what we are all about \nFind out more[/vc_column_text][/vc_column][/vc_row]
URL:https://dorsetwildones.co.uk/news-and-events-upcoming-event/christmas-holiday-club/
LOCATION:Bere Regis Primary School\, Southbrook\, Bere Regis\, Dorset\, BH20 7LQ\, United Kingdom
CATEGORIES:Holiday Club
ATTACH;FMTTYPE=image/jpeg:https://dorsetwildones.co.uk/wp-content/uploads/2024/11/xmas-club.jpg
ORGANIZER;CN="Wild Ones":MAILTO:info@bovingtonwildones.co.uk
END:VEVENT
BEGIN:VEVENT
DTSTART;TZID=UTC:20241028T090000
DTEND;TZID=UTC:20241101T153000
DTSTAMP:20260423T183413
CREATED:20230912T134346Z
LAST-MODIFIED:20240910T195516Z
UID:1420-1730106000-1730475000@dorsetwildones.co.uk
SUMMARY:October half term school holiday club
DESCRIPTION:[vc_row][vc_column][vc_column_text]\nSome of the activities we have on offer include:\n[/vc_column_text][/vc_column][/vc_row][vc_row][vc_column width=”1/3″]\n\nArchery\nWildlife workshops\nMake a spider and web\nMagic potion making\nCampfire songs\nSpooky lanterns\n\n[/vc_column][vc_column width=”1/3″]\n\nBroomstick making\nSlime making\nWhittling\nTeam games\nPond dipping\nAutumn wreaths\n\n[/vc_column][vc_column width=”1/3″]\n\nFire building\nDen making\nMonster slime kitchen\nClay monsters\nPumpkin art\nNeedle felting\n\n[/vc_column][/vc_row][vc_row][vc_column][vc_column_text]\nAbout the club\nDorset Wild Ones holiday club is a school holiday adventure club providing a safe\, informative\, and fun environment for children to learn\, play and explore. By participating in a range of activities such as bushcraft\, fire-making\, gardening\, nature crafts\, shelter building\, and wildlife workshops our children and young people will learn a range of skills whilst improving their confidence\, risk-taking\, and communication skills while having lots of fun. \nOur club is perfect for all adventurers from reception up to year 10. We always have two or three bushcraft\, craft or team activities on offer at any time\, or if your child prefers they are free to go wild and free play in any of our areas. \nWe are neighbours with the Dorset Wildlife Trusts Wild Woodbury project as well as Mays Wood so we often make use of the local river\, fields and forest for the keen naturalists \nRead more about the club[/vc_column_text][/vc_column][/vc_row][vc_row][vc_column][vc_column_text]\nOur Team\nWe have a brilliant and skilled team of leaders at Wild Ones made up of Forest School leaders\, teachers\, bushcraft instructors\, conversationalists\, artists and SEND specialists. This means your Wild One will get a fully rounded and fulfilling time with us! \nLocation\nWe are based at Bere Regis Primary School\, in our amazing Forest School area\, though we make use of the surrounding woodland\, river and Wild Woodbury. \nCosts\nOur main club runs from 9.00 am – 3.30 pm and the cost is £32\, with a discount for siblings . You can also add an hour in the morning and/or afternoon for £5 each.[/vc_column_text][/vc_column][/vc_row][vc_row][vc_column][/vc_column][/vc_row][vc_row][vc_column width=”1/2″][vc_column_text color=”#ffffff” css=”.vc_custom_1694601977411{padding-top: 5px !important;padding-right: 30px !important;padding-bottom: 30px !important;padding-left: 30px !important;background-color: #794077 !important;border-radius: 10px !important;}”]\nReady to book?\nYou can register and book your place online using our booking portal. You can pay by card or bank transfer \nBook online[/vc_column_text][/vc_column][vc_column width=”1/2″][vc_column_text color=”#ffffff” css=”.vc_custom_1694602044449{padding-top: 5px !important;padding-right: 30px !important;padding-bottom: 30px !important;padding-left: 30px !important;background-color: #794077 !important;border-radius: 10px !important;}”]\nFind out more\nYou can read all about our club and what we are all about \nFind out more[/vc_column_text][/vc_column][/vc_row]
URL:https://dorsetwildones.co.uk/news-and-events-upcoming-event/october-half-term-school-holiday-club/
LOCATION:Bere Regis Primary School\, Southbrook\, Bere Regis\, Dorset\, BH20 7LQ\, United Kingdom
CATEGORIES:Holiday Club
ATTACH;FMTTYPE=image/jpeg:https://dorsetwildones.co.uk/wp-content/uploads/2023/09/banner.jpg
ORGANIZER;CN="Wild Ones":MAILTO:info@bovingtonwildones.co.uk
END:VEVENT
BEGIN:VEVENT
DTSTART;TZID=UTC:20230807T090000
DTEND;TZID=UTC:20230901T153000
DTSTAMP:20260423T183413
CREATED:20220613T204721Z
LAST-MODIFIED:20230714T230452Z
UID:670-1691398800-1693582200@dorsetwildones.co.uk
SUMMARY:Summer Holiday Club
DESCRIPTION:Wild Ones will be returning this summer for the biggest and best holiday club we’ve ever done! \nAs well as our Forest school\, bushcraft\, gardening\, nature and craft activities we will be teaming up with the Dorset Wildlife Trust and Friendly Food club to provide some fantastic workshops too! \nWe are also really excited to be involved for a second year in the Summer in Dorset scheme meaning we are able to offer free activities and meals for children who are in receipt of benefit-related free school meals. Find out more about the scheme \nRead more about our holiday club
URL:https://dorsetwildones.co.uk/news-and-events-upcoming-event/summer-holiday-club/
LOCATION:Wooders Campsite\, Lower Woodbury Farm\, Wareham\, Dorset\, Dorset\, BH20 7NN\, United Kingdom
CATEGORIES:Holiday Club
ATTACH;FMTTYPE=image/jpeg:https://dorsetwildones.co.uk/wp-content/uploads/2022/05/event-holclub.jpg
END:VEVENT
BEGIN:VEVENT
DTSTART;VALUE=DATE:20230404
DTEND;VALUE=DATE:20230415
DTSTAMP:20260423T183413
CREATED:20220909T211658Z
LAST-MODIFIED:20230227T193256Z
UID:833-1680566400-1681516799@dorsetwildones.co.uk
SUMMARY:Easter Holiday Club
DESCRIPTION:[vc_row][vc_column][vc_column_text]Join us this April for a fun-packed fortnight at Wild Ones! \nOur home is at Wooders Campsite in Bere Regis which is on the edge of Wareham Forest and is on a working farm where you’ll meet Hereford and Normande cross cattle\, chickens\,  pygmy goats Marvin and Otis and the fabulous Rocky the horse. \nOur club is for school-aged children and we have activities suitable for all ages.[/vc_column_text][/vc_column][/vc_row][vc_row css=”.vc_custom_1662760751555{margin-bottom: 30px !important;padding-top: 30px !important;padding-right: 30px !important;padding-bottom: 0px !important;padding-left: 30px !important;background-color: #793f78 !important;border-radius: 10px !important;}”][vc_column][vc_column_text color=”#ffffff” css=”.vc_custom_1662760447200{margin-bottom: 25px !important;}”]\nOur activities will include:\n[/vc_column_text][vc_row_inner][vc_column_inner width=”1/2″][vc_column_text color=”#ffffff”]\n\nEaster art\nArchery\nNature crowns\nWhittling\nEaster bird feeders\nDen building\n\n[/vc_column_text][/vc_column_inner][vc_column_inner width=”1/2″][vc_column_text color=”#ffffff”]\n\nPotion making\nNature jewellery\nWildlife tracking\nNature art\nStory telling\nAnd so much more!\n\n[/vc_column_text][/vc_column_inner][/vc_row_inner][/vc_column][/vc_row][vc_row][vc_column][vc_column_text css=”.vc_custom_1675784066095{margin-top: 25px !important;}”]Are you ready to go wild? Find out more about the club and how to book your place \nFind out more about our club \nBook your child online[/vc_column_text][/vc_column][/vc_row][vc_row][vc_column][/vc_column][/vc_row]
URL:https://dorsetwildones.co.uk/news-and-events-upcoming-event/easter-holiday-club/
LOCATION:Wooders Campsite\, Lower Woodbury Farm\, Wareham\, Dorset\, Dorset\, BH20 7NN\, United Kingdom
CATEGORIES:Holiday Club
ATTACH;FMTTYPE=image/jpeg:https://dorsetwildones.co.uk/wp-content/uploads/2022/09/301445947_403893038548887_813724527343525328_n.jpg
ORGANIZER;CN="Wild Ones":MAILTO:info@bovingtonwildones.co.uk
END:VEVENT
END:VCALENDAR