BEGIN:VCALENDAR
VERSION:2.0
PRODID:-//Dorset Wild Ones - ECPv6.15.20//NONSGML v1.0//EN
CALSCALE:GREGORIAN
METHOD:PUBLISH
X-ORIGINAL-URL:https://dorsetwildones.co.uk
X-WR-CALDESC:Events for Dorset Wild Ones
REFRESH-INTERVAL;VALUE=DURATION:PT1H
X-Robots-Tag:noindex
X-PUBLISHED-TTL:PT1H
BEGIN:VTIMEZONE
TZID:UTC
BEGIN:STANDARD
TZOFFSETFROM:+0000
TZOFFSETTO:+0000
TZNAME:UTC
DTSTART:20250101T000000
END:STANDARD
END:VTIMEZONE
BEGIN:VEVENT
DTSTART;TZID=UTC:20260330T090000
DTEND;TZID=UTC:20260404T160000
DTSTAMP:20260423T180853
CREATED:20250313T154826Z
LAST-MODIFIED:20260219T212405Z
UID:1942-1774861200-1775318400@dorsetwildones.co.uk
SUMMARY:Easter school holiday club
DESCRIPTION:[vc_row][vc_column][vc_column_text]\nSome of the activities we have on offer include:\n[/vc_column_text][/vc_column][/vc_row][vc_row][vc_column width=”1/3″]\n\nArchery\nWildlife workshops\nJewellery making\nCampfire songs\n\n[/vc_column][vc_column width=”1/3″]\n\nArt workshops\nWhittling\nTeam games\nPond dipping\n\n[/vc_column][vc_column width=”1/3″]\n\nFire building\nDen making\nMega mud kitchen\nNeedle felting\n\n[/vc_column][/vc_row][vc_row][vc_column][vc_column_text css=””]\nAbout the club\nDorset Wild Ones holiday club is a school holiday adventure club providing a safe\, informative\, and fun environment for children to learn\, play and explore. By participating in a range of activities such as bushcraft\, fire-making\, gardening\, nature crafts\, shelter building\, and wildlife workshops our children and young people will learn a range of skills whilst improving their confidence\, risk-taking\, and communication skills while having lots of fun. \nOur club is perfect for all adventurers from reception up to year 10. We always have two or three bushcraft\, craft or team activities on offer at any time\, or if your child prefers they are free to go wild and free play in any of our areas. \nWe are neighbours with the Dorset Wildlife Trusts Wild Woodbury project as well as Mays Wood so we often make use of the local river\, fields and forest for the keen naturalists \nRead more about the club[/vc_column_text][/vc_column][/vc_row][vc_row][vc_column][vc_column_text]\nOur Team\nWe have a brilliant and skilled team of leaders at Wild Ones made up of Forest School leaders\, teachers\, bushcraft instructors\, conversationalists\, artists and SEND specialists. This means your Wild One will get a fully rounded and fulfilling time with us! \nLocation\nWe are based at Bere Regis Primary School\, in our amazing Forest School area\, though we make use of the surrounding woodland\, river and Wild Woodbury. \nCosts\nOur main club runs from 9.00 am – 3.30 pm and the cost is £32\, with a discount for siblings . You can also add an hour in the morning and/or afternoon for £5 each.[/vc_column_text][/vc_column][/vc_row][vc_row][vc_column][/vc_column][/vc_row][vc_row][vc_column width=”1/2″][vc_column_text css=”.vc_custom_1737130711774{padding-top: 5px !important;padding-right: 30px !important;padding-bottom: 30px !important;padding-left: 30px !important;background-color: #794077 !important;border-radius: 10px !important;}” color=”#ffffff”]\nReady to book?\nYou can register and book your place online using our booking portal. You can pay by card or bank transfer \nBook online[/vc_column_text][/vc_column][vc_column width=”1/2″][vc_column_text css=”.vc_custom_1737130721617{padding-top: 5px !important;padding-right: 30px !important;padding-bottom: 30px !important;padding-left: 30px !important;background-color: #794077 !important;border-radius: 10px !important;}” color=”#ffffff”]\nFind out more\nYou can read all about our club and what we are all about \nFind out more[/vc_column_text][/vc_column][/vc_row][vc_row visibility=”hidden”][vc_column][vc_column_text css=””]\n\nBooking will open shortly\n[/vc_column_text][/vc_column][/vc_row]
URL:https://dorsetwildones.co.uk/news-and-events-upcoming-event/easter-school-holiday-club/
LOCATION:Bere Regis Primary School\, Southbrook\, Bere Regis\, Dorset\, BH20 7LQ\, United Kingdom
CATEGORIES:Holiday Club
ATTACH;FMTTYPE=image/jpeg:https://dorsetwildones.co.uk/wp-content/uploads/2025/03/flyer.jpg
ORGANIZER;CN="Wild Ones":MAILTO:info@bovingtonwildones.co.uk
END:VEVENT
BEGIN:VEVENT
DTSTART;TZID=UTC:20260730T140000
DTEND;TZID=UTC:20260802T190000
DTSTAMP:20260423T180853
CREATED:20250630T190055Z
LAST-MODIFIED:20260219T213409Z
UID:1969-1785420000-1785697200@dorsetwildones.co.uk
SUMMARY:Wild Ones @ Camp Bestival
DESCRIPTION:[vc_row][vc_column][vc_column_text][/vc_column_text][vc_column_text css=””]Wild Ones are SO EXCITED to have been invited to run the dingly dell area at Camp Bestival this year. \nWe will be bringing our epic mud kitchen where your wild ones can drop in any time to create a muddy meal and serve in our mini restaurants! or why not mix up a magic potion in our potion area? \nWe’ll also be providing FREE drop-in crafts and workshops \nWorkshops include: \n\nTutu and mask making\nMake a fairy door\nDen building\nNeedle felting\nMake a fairy house\nDesign and create a festival flag\n\nif you are going to camp festival\, come and say hi![/vc_column_text][/vc_column][/vc_row][vc_row][vc_column][/vc_column][/vc_row]
URL:https://dorsetwildones.co.uk/news-and-events-upcoming-event/wild-ones-camp-bestival-2/
LOCATION:Lulworth Castle\, East Lulworth\,\, Wareham\, BH20 5QS
CATEGORIES:Festival
ATTACH;FMTTYPE=image/jpeg:https://dorsetwildones.co.uk/wp-content/uploads/2025/06/482206000_986408023630716_3763507866061845889_n.jpg
END:VEVENT
END:VCALENDAR